BEGIN:VCALENDAR
VERSION:2.0
CALSCALE:GREGORIAN
BEGIN:VEVENT
URL:https://www.learndesk.us/class/5841187640442880/lesson/c295c5ab8c3e776e71e7bcddda1089ff?ref=outlook-calendar
SUMMARY:Selecting Components and Setting Properties
DTSTART;TZID=America/Los_Angeles:20260421T190000
DTEND;TZID=America/Los_Angeles:20260421T200000
LOCATION:https://www.learndesk.us/class/5841187640442880/lesson/c295c5ab8c3e776e71e7bcddda1089ff?ref=outlook-calendar
DESCRIPTION: In this video, you will learn how to select and set properties for all components used to create your mobile app.

https://www.learndesk.us/class/5841187640442880/lesson/c295c5ab8c3e776e71e7bcddda1089ff?ref=outlook-calendar
STATUS:CONFIRMED
SEQUENCE:3
BEGIN:VALARM
TRIGGER:-PT10M
DESCRIPTION:Class Reminder
ACTION:DISPLAY
END:VALARM
END:VEVENT
END:VCALENDAR