BEGIN:VCALENDAR
VERSION:2.0
CALSCALE:GREGORIAN
BEGIN:VEVENT
URL:https://www.learndesk.us/class/5841187640442880/lesson/a8fa04c309daba6d4d049fd03f69f5cf?ref=outlook-calendar
SUMMARY:Introduction of MIT App Inventor and Account Creation
DTSTART;TZID=America/Los_Angeles:20260421T190000
DTEND;TZID=America/Los_Angeles:20260421T200000
LOCATION:https://www.learndesk.us/class/5841187640442880/lesson/a8fa04c309daba6d4d049fd03f69f5cf?ref=outlook-calendar
DESCRIPTION: In this video, you will be given an overview of the MIT App Inventor application and you will learn how to set up an account in order to use the application.

https://www.learndesk.us/class/5841187640442880/lesson/a8fa04c309daba6d4d049fd03f69f5cf?ref=outlook-calendar
STATUS:CONFIRMED
SEQUENCE:3
BEGIN:VALARM
TRIGGER:-PT10M
DESCRIPTION:Class Reminder
ACTION:DISPLAY
END:VALARM
END:VEVENT
END:VCALENDAR