BEGIN:VCALENDAR
VERSION:2.0
CALSCALE:GREGORIAN
BEGIN:VEVENT
URL:https://www.learndesk.us/class/5841187640442880/lesson/88319168b13579ba2f11f3c789543a03?ref=outlook-calendar
SUMMARY:Layout Arrangements - Horizontal
DTSTART;TZID=America/Los_Angeles:20260421T190000
DTEND;TZID=America/Los_Angeles:20260421T200000
LOCATION:https://www.learndesk.us/class/5841187640442880/lesson/88319168b13579ba2f11f3c789543a03?ref=outlook-calendar
DESCRIPTION: In this video, you will learn how to use and set up a horizontal arrangement for components used to create your mobile app.

https://www.learndesk.us/class/5841187640442880/lesson/88319168b13579ba2f11f3c789543a03?ref=outlook-calendar
STATUS:CONFIRMED
SEQUENCE:3
BEGIN:VALARM
TRIGGER:-PT10M
DESCRIPTION:Class Reminder
ACTION:DISPLAY
END:VALARM
END:VEVENT
END:VCALENDAR