BEGIN:VCALENDAR
VERSION:2.0
CALSCALE:GREGORIAN
BEGIN:VEVENT
URL:https://www.learndesk.us/class/5826482851020800/lesson/bf72e29a442c0d40ee6a205708e874da?ref=outlook-calendar
SUMMARY:The Six Questions PTR 4
DTSTART;TZID=America/Los_Angeles:20260422T190000
DTEND;TZID=America/Los_Angeles:20260422T200000
LOCATION:https://www.learndesk.us/class/5826482851020800/lesson/bf72e29a442c0d40ee6a205708e874da?ref=outlook-calendar
DESCRIPTION: https://www.learndesk.us/class/5826482851020800/lesson/bf72e29a442c0d40ee6a205708e874da?ref=outlook-calendar
STATUS:CONFIRMED
SEQUENCE:3
BEGIN:VALARM
TRIGGER:-PT10M
DESCRIPTION:Class Reminder
ACTION:DISPLAY
END:VALARM
END:VEVENT
END:VCALENDAR