BEGIN:VCALENDAR
VERSION:2.0
CALSCALE:GREGORIAN
BEGIN:VEVENT
URL:https://www.learndesk.us/class/5826482851020800/lesson/8dc5dc3167b8bf8e0e7cd0774776d885?ref=outlook-calendar
SUMMARY:Idiom Problem 8
DTSTART;TZID=America/Los_Angeles:20260422T190000
DTEND;TZID=America/Los_Angeles:20260422T200000
LOCATION:https://www.learndesk.us/class/5826482851020800/lesson/8dc5dc3167b8bf8e0e7cd0774776d885?ref=outlook-calendar
DESCRIPTION: https://www.learndesk.us/class/5826482851020800/lesson/8dc5dc3167b8bf8e0e7cd0774776d885?ref=outlook-calendar
STATUS:CONFIRMED
SEQUENCE:3
BEGIN:VALARM
TRIGGER:-PT10M
DESCRIPTION:Class Reminder
ACTION:DISPLAY
END:VALARM
END:VEVENT
END:VCALENDAR