BEGIN:VCALENDAR
VERSION:2.0
CALSCALE:GREGORIAN
BEGIN:VEVENT
URL:https://www.learndesk.us/class/5826482851020800/lesson/846392b3f2267682410543cb9dc6d5c6?ref=outlook-calendar
SUMMARY:The Three-Step Method Example Question 2
DTSTART;TZID=America/Los_Angeles:20260422T190000
DTEND;TZID=America/Los_Angeles:20260422T200000
LOCATION:https://www.learndesk.us/class/5826482851020800/lesson/846392b3f2267682410543cb9dc6d5c6?ref=outlook-calendar
DESCRIPTION: https://www.learndesk.us/class/5826482851020800/lesson/846392b3f2267682410543cb9dc6d5c6?ref=outlook-calendar
STATUS:CONFIRMED
SEQUENCE:3
BEGIN:VALARM
TRIGGER:-PT10M
DESCRIPTION:Class Reminder
ACTION:DISPLAY
END:VALARM
END:VEVENT
END:VCALENDAR