BEGIN:VCALENDAR
VERSION:2.0
CALSCALE:GREGORIAN
BEGIN:VEVENT
URL:https://www.learndesk.us/class/5826482851020800/lesson/4f2272917029b0b5b28dc6d317321a5d?ref=outlook-calendar
SUMMARY:The Three-Step Method Example Question 1
DTSTART;TZID=America/Los_Angeles:20260423T190000
DTEND;TZID=America/Los_Angeles:20260423T200000
LOCATION:https://www.learndesk.us/class/5826482851020800/lesson/4f2272917029b0b5b28dc6d317321a5d?ref=outlook-calendar
DESCRIPTION: https://www.learndesk.us/class/5826482851020800/lesson/4f2272917029b0b5b28dc6d317321a5d?ref=outlook-calendar
STATUS:CONFIRMED
SEQUENCE:3
BEGIN:VALARM
TRIGGER:-PT10M
DESCRIPTION:Class Reminder
ACTION:DISPLAY
END:VALARM
END:VEVENT
END:VCALENDAR