BEGIN:VCALENDAR
VERSION:2.0
CALSCALE:GREGORIAN
BEGIN:VEVENT
URL:https://www.learndesk.us/class/5826482851020800/lesson/43d5641783f4b82310be12e2ee49b3db?ref=outlook-calendar
SUMMARY:Sample Writing Passage 3 Question 11
DTSTART;TZID=America/Los_Angeles:20260421T190000
DTEND;TZID=America/Los_Angeles:20260421T200000
LOCATION:https://www.learndesk.us/class/5826482851020800/lesson/43d5641783f4b82310be12e2ee49b3db?ref=outlook-calendar
DESCRIPTION: https://www.learndesk.us/class/5826482851020800/lesson/43d5641783f4b82310be12e2ee49b3db?ref=outlook-calendar
STATUS:CONFIRMED
SEQUENCE:3
BEGIN:VALARM
TRIGGER:-PT10M
DESCRIPTION:Class Reminder
ACTION:DISPLAY
END:VALARM
END:VEVENT
END:VCALENDAR