BEGIN:VCALENDAR
VERSION:2.0
CALSCALE:GREGORIAN
BEGIN:VEVENT
URL:https://www.learndesk.us/class/5826482851020800/sat-verbal-prep-course?ref=outlook-calendar
SUMMARY:SAT Verbal Prep Course
DTSTART;TZID=America/Los_Angeles:20260422T190000
DTEND;TZID=America/Los_Angeles:20260422T200000
LOCATION:https://www.learndesk.us/class/5826482851020800/sat-verbal-prep-course?ref=outlook-calendar
DESCRIPTION: 
Every year, students pay $1,000 and more to test prep companies to prepare for the verbal section of the SAT. Now you can get the same preparation in an online course. SAT Verbal Prep Course provides the equivalent of a 2-month, 50-hour course.
Although the SAT verbal section is steep, it is very learnable. SAT Verbal Prep Course presents a thorough analysis of SAT verbal and introduces numerous analytic techniques that will help you immensely, not only on the SAT but in graduate school as well.
What will you learn in this course?

Videos: Hundreds of videos explaining the text, examples, and exercises in step-by-step detail.
Verbal: Develop the ability to spot places from which questions are likely to be drawn as you read a passage (pivotal words, counter-premises, etc.). Also, learn the 400 essential SAT words.
Writing: Comprehensive analysis of the writing task, including writing techniques, punctuation, grammar, rhetoric, and style.
Mentor Exercises: These exercises provide...

https://www.learndesk.us/class/5826482851020800/sat-verbal-prep-course?ref=outlook-calendar
STATUS:CONFIRMED
SEQUENCE:3
BEGIN:VALARM
TRIGGER:-PT10M
DESCRIPTION:Class Reminder
ACTION:DISPLAY
END:VALARM
END:VEVENT
END:VCALENDAR