BEGIN:VCALENDAR
VERSION:2.0
CALSCALE:GREGORIAN
BEGIN:VEVENT
URL:https://www.learndesk.us/class/5816780784140288/lesson/e7f1d1cbab2bf7a709f0d4c727dd0e15?ref=outlook-calendar
SUMMARY:Video Recording with PowerPoint
DTSTART;TZID=America/Los_Angeles:20260422T190000
DTEND;TZID=America/Los_Angeles:20260422T200000
LOCATION:https://www.learndesk.us/class/5816780784140288/lesson/e7f1d1cbab2bf7a709f0d4c727dd0e15?ref=outlook-calendar
DESCRIPTION: https://www.learndesk.us/class/5816780784140288/lesson/e7f1d1cbab2bf7a709f0d4c727dd0e15?ref=outlook-calendar
STATUS:CONFIRMED
SEQUENCE:3
BEGIN:VALARM
TRIGGER:-PT10M
DESCRIPTION:Class Reminder
ACTION:DISPLAY
END:VALARM
END:VEVENT
END:VCALENDAR