BEGIN:VCALENDAR
VERSION:2.0
CALSCALE:GREGORIAN
BEGIN:VEVENT
URL:https://www.learndesk.us/class/5816780784140288/lesson/92dc8fc52622b356815e795b1b6add49?ref=outlook-calendar
SUMMARY:Rule of Thirds: Single Image
DTSTART;TZID=America/Los_Angeles:20260420T190000
DTEND;TZID=America/Los_Angeles:20260420T200000
LOCATION:https://www.learndesk.us/class/5816780784140288/lesson/92dc8fc52622b356815e795b1b6add49?ref=outlook-calendar
DESCRIPTION: https://www.learndesk.us/class/5816780784140288/lesson/92dc8fc52622b356815e795b1b6add49?ref=outlook-calendar
STATUS:CONFIRMED
SEQUENCE:3
BEGIN:VALARM
TRIGGER:-PT10M
DESCRIPTION:Class Reminder
ACTION:DISPLAY
END:VALARM
END:VEVENT
END:VCALENDAR