BEGIN:VCALENDAR
VERSION:2.0
CALSCALE:GREGORIAN
BEGIN:VEVENT
URL:https://www.learndesk.us/class/5816780784140288/lesson/497697094e2defd9dec91d34fc8dbb15?ref=outlook-calendar
SUMMARY:Convincing Your Boss
DTSTART;TZID=America/Los_Angeles:20260420T190000
DTEND;TZID=America/Los_Angeles:20260420T200000
LOCATION:https://www.learndesk.us/class/5816780784140288/lesson/497697094e2defd9dec91d34fc8dbb15?ref=outlook-calendar
DESCRIPTION: https://www.learndesk.us/class/5816780784140288/lesson/497697094e2defd9dec91d34fc8dbb15?ref=outlook-calendar
STATUS:CONFIRMED
SEQUENCE:3
BEGIN:VALARM
TRIGGER:-PT10M
DESCRIPTION:Class Reminder
ACTION:DISPLAY
END:VALARM
END:VEVENT
END:VCALENDAR