BEGIN:VCALENDAR
VERSION:2.0
CALSCALE:GREGORIAN
BEGIN:VEVENT
URL:https://www.learndesk.us/class/5816780784140288/power-up-powerpoint?ref=outlook-calendar
SUMMARY:Power Up PowerPoint
DTSTART;TZID=America/Los_Angeles:20260420T190000
DTEND;TZID=America/Los_Angeles:20260420T200000
LOCATION:https://www.learndesk.us/class/5816780784140288/power-up-powerpoint?ref=outlook-calendar
DESCRIPTION: 
Most presentations are filled with bullet point lists, thick paragraphs of text, and the occasional picture in a desperate attempt to break up the monotony. You can do better than that. This course shows you ways to turn standard content into something that’s actually interesting to your audience. Taught by presentation skills guru, Kelly Vandever, and TEDx speaker Dr. Rebecca Heiss, power up PowerPoint will show you how to “power up” your next presentation.
What will you learn in this course?

You will learn the rule of thirds and other practical techniques to make slides look their best
You will learn revising existing slides to be more effective
You will learn how default settings hurt the effectiveness of your slides
You will learn increasing audience retention through the design of your slides, knowing when animations and transitions can benefit your presentation
You will find free and low-cost photographs for presentations, learning the step-by-step process for creating...

https://www.learndesk.us/class/5816780784140288/power-up-powerpoint?ref=outlook-calendar
STATUS:CONFIRMED
SEQUENCE:3
BEGIN:VALARM
TRIGGER:-PT10M
DESCRIPTION:Class Reminder
ACTION:DISPLAY
END:VALARM
END:VEVENT
END:VCALENDAR