BEGIN:VCALENDAR
VERSION:2.0
CALSCALE:GREGORIAN
BEGIN:VEVENT
URL:https://www.learndesk.us/class/5801223875723264/lesson/ed8dfc9388398afc3d44f5a6a3dd6d33?ref=outlook-calendar
SUMMARY:7" Liner CBL and VDL Wireline Log
DTSTART;TZID=America/Los_Angeles:20260421T190000
DTEND;TZID=America/Los_Angeles:20260421T200000
LOCATION:https://www.learndesk.us/class/5801223875723264/lesson/ed8dfc9388398afc3d44f5a6a3dd6d33?ref=outlook-calendar
DESCRIPTION: https://www.learndesk.us/class/5801223875723264/lesson/ed8dfc9388398afc3d44f5a6a3dd6d33?ref=outlook-calendar
STATUS:CONFIRMED
SEQUENCE:3
BEGIN:VALARM
TRIGGER:-PT10M
DESCRIPTION:Class Reminder
ACTION:DISPLAY
END:VALARM
END:VEVENT
END:VCALENDAR