BEGIN:VCALENDAR
VERSION:2.0
CALSCALE:GREGORIAN
BEGIN:VEVENT
URL:https://www.learndesk.us/class/5801223875723264/lesson/d628cded80ea08b234526b041484a8bf?ref=outlook-calendar
SUMMARY:Pre-Drilling Preparation
DTSTART;TZID=America/Los_Angeles:20260421T190000
DTEND;TZID=America/Los_Angeles:20260421T200000
LOCATION:https://www.learndesk.us/class/5801223875723264/lesson/d628cded80ea08b234526b041484a8bf?ref=outlook-calendar
DESCRIPTION: https://www.learndesk.us/class/5801223875723264/lesson/d628cded80ea08b234526b041484a8bf?ref=outlook-calendar
STATUS:CONFIRMED
SEQUENCE:3
BEGIN:VALARM
TRIGGER:-PT10M
DESCRIPTION:Class Reminder
ACTION:DISPLAY
END:VALARM
END:VEVENT
END:VCALENDAR