BEGIN:VCALENDAR
VERSION:2.0
CALSCALE:GREGORIAN
BEGIN:VEVENT
URL:https://www.learndesk.us/class/5801223875723264/lesson/97e3b5ca1730d2079859afdad8491c20?ref=outlook-calendar
SUMMARY:Phase - 3
DTSTART;TZID=America/Los_Angeles:20260421T190000
DTEND;TZID=America/Los_Angeles:20260421T200000
LOCATION:https://www.learndesk.us/class/5801223875723264/lesson/97e3b5ca1730d2079859afdad8491c20?ref=outlook-calendar
DESCRIPTION: 
Phase-3
Drill 8-1/2" hole and 7" production liner 
Liner 

Liner is a casing string that does not extend back to wellhead but instead is hung inside the previous casing string.  Liner is used instead of the full casing string to reduce cost, improve hydraulic performance, when drilling deeper, allow the use of larger tubing above the liner top. the liner can be either an intermediate or production string. Liner is typically cemented over its entire length. 
We will drill the 8-1/2" hole and run 7" production liner. 



https://www.learndesk.us/class/5801223875723264/lesson/97e3b5ca1730d2079859afdad8491c20?ref=outlook-calendar
STATUS:CONFIRMED
SEQUENCE:3
BEGIN:VALARM
TRIGGER:-PT10M
DESCRIPTION:Class Reminder
ACTION:DISPLAY
END:VALARM
END:VEVENT
END:VCALENDAR