BEGIN:VCALENDAR
VERSION:2.0
CALSCALE:GREGORIAN
BEGIN:VEVENT
URL:https://www.learndesk.us/class/5801223875723264/lesson/5935c80f98b2ee1ecd799502f7a490fe?ref=outlook-calendar
SUMMARY:Weld C Plate
DTSTART;TZID=America/Los_Angeles:20260421T190000
DTEND;TZID=America/Los_Angeles:20260421T200000
LOCATION:https://www.learndesk.us/class/5801223875723264/lesson/5935c80f98b2ee1ecd799502f7a490fe?ref=outlook-calendar
DESCRIPTION: https://www.learndesk.us/class/5801223875723264/lesson/5935c80f98b2ee1ecd799502f7a490fe?ref=outlook-calendar
STATUS:CONFIRMED
SEQUENCE:3
BEGIN:VALARM
TRIGGER:-PT10M
DESCRIPTION:Class Reminder
ACTION:DISPLAY
END:VALARM
END:VEVENT
END:VCALENDAR