BEGIN:VCALENDAR
VERSION:2.0
CALSCALE:GREGORIAN
BEGIN:VEVENT
URL:https://www.learndesk.us/class/5801223875723264/lesson/46a95e879a313bd1beb1113a39d4db37?ref=outlook-calendar
SUMMARY:Acronyms
DTSTART;TZID=America/Los_Angeles:20260421T190000
DTEND;TZID=America/Los_Angeles:20260421T200000
LOCATION:https://www.learndesk.us/class/5801223875723264/lesson/46a95e879a313bd1beb1113a39d4db37?ref=outlook-calendar
DESCRIPTION: 
Acronyms:

ND                            Nipple down 
RU                            Rig Up 
RD                            Rig down 
RIH                           Running in the hole 
POOH                       Pull out of the hole
PT                             Pressure test 
TCA                          Tubing Casing Annulus 
BOP                         Blow Out Preventor 
THS                          Tubing head spool 
CHH                         Casing head housing 
CHS                          Casing head spool 
WOC                        Wait on cement



https://www.learndesk.us/class/5801223875723264/lesson/46a95e879a313bd1beb1113a39d4db37?ref=outlook-calendar
STATUS:CONFIRMED
SEQUENCE:3
BEGIN:VALARM
TRIGGER:-PT10M
DESCRIPTION:Class Reminder
ACTION:DISPLAY
END:VALARM
END:VEVENT
END:VCALENDAR