BEGIN:VCALENDAR
VERSION:2.0
CALSCALE:GREGORIAN
BEGIN:VEVENT
URL:https://www.learndesk.us/class/5801223875723264/lesson/39272e64f52c9a010e978a941aa6f628?ref=outlook-calendar
SUMMARY:Emergency Response Plan
DTSTART;TZID=America/Los_Angeles:20260421T190000
DTEND;TZID=America/Los_Angeles:20260421T200000
LOCATION:https://www.learndesk.us/class/5801223875723264/lesson/39272e64f52c9a010e978a941aa6f628?ref=outlook-calendar
DESCRIPTION: 
The emergency response plan is bridging document it consists of:

 Action plan in case of an emergency like h2s release blowout.
 Evacuation plan in an emergency.
 Relief well location.
 The emergency contact number of organizations like a firefighter, security, a nearby hospital, etc.
 Map nearby facilities and pipelines.



https://www.learndesk.us/class/5801223875723264/lesson/39272e64f52c9a010e978a941aa6f628?ref=outlook-calendar
STATUS:CONFIRMED
SEQUENCE:3
BEGIN:VALARM
TRIGGER:-PT10M
DESCRIPTION:Class Reminder
ACTION:DISPLAY
END:VALARM
END:VEVENT
END:VCALENDAR