BEGIN:VCALENDAR
VERSION:2.0
CALSCALE:GREGORIAN
BEGIN:VEVENT
URL:https://www.learndesk.us/class/5800461116375040/lesson/d4e7ab5ddcc037084234ac2983960f14?ref=outlook-calendar
SUMMARY:Practice Activity: Testing
DTSTART;TZID=America/Los_Angeles:20260425T190000
DTEND;TZID=America/Los_Angeles:20260425T200000
LOCATION:https://www.learndesk.us/class/5800461116375040/lesson/d4e7ab5ddcc037084234ac2983960f14?ref=outlook-calendar
DESCRIPTION: https://www.learndesk.us/class/5800461116375040/lesson/d4e7ab5ddcc037084234ac2983960f14?ref=outlook-calendar
STATUS:CONFIRMED
SEQUENCE:3
BEGIN:VALARM
TRIGGER:-PT10M
DESCRIPTION:Class Reminder
ACTION:DISPLAY
END:VALARM
END:VEVENT
END:VCALENDAR