BEGIN:VCALENDAR
VERSION:2.0
CALSCALE:GREGORIAN
BEGIN:VEVENT
URL:https://www.learndesk.us/class/5800461116375040/lesson/7aa1f08494c525c32c99b42db6cc743f?ref=outlook-calendar
SUMMARY:Callbacks
DTSTART;TZID=America/Los_Angeles:20260425T190000
DTEND;TZID=America/Los_Angeles:20260425T200000
LOCATION:https://www.learndesk.us/class/5800461116375040/lesson/7aa1f08494c525c32c99b42db6cc743f?ref=outlook-calendar
DESCRIPTION: https://www.learndesk.us/class/5800461116375040/lesson/7aa1f08494c525c32c99b42db6cc743f?ref=outlook-calendar
STATUS:CONFIRMED
SEQUENCE:3
BEGIN:VALARM
TRIGGER:-PT10M
DESCRIPTION:Class Reminder
ACTION:DISPLAY
END:VALARM
END:VEVENT
END:VCALENDAR