BEGIN:VCALENDAR
VERSION:2.0
CALSCALE:GREGORIAN
BEGIN:VEVENT
URL:https://www.learndesk.us/class/5800461116375040/beyond-basic-programming-intermediate-python?ref=outlook-calendar
SUMMARY:Beyond Basic Programming: Intermediate Python
DTSTART;TZID=America/Los_Angeles:20260425T190000
DTEND;TZID=America/Los_Angeles:20260425T200000
LOCATION:https://www.learndesk.us/class/5800461116375040/beyond-basic-programming-intermediate-python?ref=outlook-calendar
DESCRIPTION: 
So you have taken an initial programming course or have learned the basics on your own. However, when you look at other people's code or listen to their discussions, you see many concepts that seem alien stuff that you don't understand. So, the question is: how do you go from a beginning level programmer to the expert level? How do you become a guru?
This course answers this question. In it, we will be building on top of your existing basic understanding of Python language and programming in general. We will cover concepts that will take you to the next level of programming expertise. These will include language constructs that are typically not covered in a beginner level course. Concepts like generators, decorators, callbacks, higher-order functions, context managers, and others.
We will also discuss some tools that are not difficult but are essential to the life of a professional programmer. An example of this is logging for tracking down bugs a simple technique that is used in...

https://www.learndesk.us/class/5800461116375040/beyond-basic-programming-intermediate-python?ref=outlook-calendar
STATUS:CONFIRMED
SEQUENCE:3
BEGIN:VALARM
TRIGGER:-PT10M
DESCRIPTION:Class Reminder
ACTION:DISPLAY
END:VALARM
END:VEVENT
END:VCALENDAR