BEGIN:VCALENDAR
VERSION:2.0
CALSCALE:GREGORIAN
BEGIN:VEVENT
URL:https://www.learndesk.us/class/5783852733693952/lesson/bd457f131b9d934973590389aa924401?ref=outlook-calendar
SUMMARY:Azure Virtual Machines I -  Lab
DTSTART;TZID=America/Los_Angeles:20260422T190000
DTEND;TZID=America/Los_Angeles:20260422T200000
LOCATION:https://www.learndesk.us/class/5783852733693952/lesson/bd457f131b9d934973590389aa924401?ref=outlook-calendar
DESCRIPTION: https://www.learndesk.us/class/5783852733693952/lesson/bd457f131b9d934973590389aa924401?ref=outlook-calendar
STATUS:CONFIRMED
SEQUENCE:3
BEGIN:VALARM
TRIGGER:-PT10M
DESCRIPTION:Class Reminder
ACTION:DISPLAY
END:VALARM
END:VEVENT
END:VCALENDAR