BEGIN:VCALENDAR
VERSION:2.0
CALSCALE:GREGORIAN
BEGIN:VEVENT
URL:https://www.learndesk.us/class/5783852733693952/lesson/b462aa7904d54ea41bffcb6b80bb1eb1?ref=outlook-calendar
SUMMARY:Chapter 4 Introduction : What t̥o Expect in This Chapter
DTSTART;TZID=America/Los_Angeles:20260420T190000
DTEND;TZID=America/Los_Angeles:20260420T200000
LOCATION:https://www.learndesk.us/class/5783852733693952/lesson/b462aa7904d54ea41bffcb6b80bb1eb1?ref=outlook-calendar
DESCRIPTION: https://www.learndesk.us/class/5783852733693952/lesson/b462aa7904d54ea41bffcb6b80bb1eb1?ref=outlook-calendar
STATUS:CONFIRMED
SEQUENCE:3
BEGIN:VALARM
TRIGGER:-PT10M
DESCRIPTION:Class Reminder
ACTION:DISPLAY
END:VALARM
END:VEVENT
END:VCALENDAR