BEGIN:VCALENDAR
VERSION:2.0
CALSCALE:GREGORIAN
BEGIN:VEVENT
URL:https://www.learndesk.us/class/5783852733693952/lesson/aa47b1573bbd45efef15c3866ed2e8bc?ref=outlook-calendar
SUMMARY:Ways to Minimize Costs in Azure
DTSTART;TZID=America/Los_Angeles:20260420T190000
DTEND;TZID=America/Los_Angeles:20260420T200000
LOCATION:https://www.learndesk.us/class/5783852733693952/lesson/aa47b1573bbd45efef15c3866ed2e8bc?ref=outlook-calendar
DESCRIPTION: https://www.learndesk.us/class/5783852733693952/lesson/aa47b1573bbd45efef15c3866ed2e8bc?ref=outlook-calendar
STATUS:CONFIRMED
SEQUENCE:3
BEGIN:VALARM
TRIGGER:-PT10M
DESCRIPTION:Class Reminder
ACTION:DISPLAY
END:VALARM
END:VEVENT
END:VCALENDAR