BEGIN:VCALENDAR
VERSION:2.0
CALSCALE:GREGORIAN
BEGIN:VEVENT
URL:https://www.learndesk.us/class/5783852733693952/lesson/70c21aa6055e9a8d776f3abd7af2e47b?ref=outlook-calendar
SUMMARY:Regional Pairs
DTSTART;TZID=America/Los_Angeles:20260422T190000
DTEND;TZID=America/Los_Angeles:20260422T200000
LOCATION:https://www.learndesk.us/class/5783852733693952/lesson/70c21aa6055e9a8d776f3abd7af2e47b?ref=outlook-calendar
DESCRIPTION: https://www.learndesk.us/class/5783852733693952/lesson/70c21aa6055e9a8d776f3abd7af2e47b?ref=outlook-calendar
STATUS:CONFIRMED
SEQUENCE:3
BEGIN:VALARM
TRIGGER:-PT10M
DESCRIPTION:Class Reminder
ACTION:DISPLAY
END:VALARM
END:VEVENT
END:VCALENDAR