BEGIN:VCALENDAR
VERSION:2.0
CALSCALE:GREGORIAN
BEGIN:VEVENT
URL:https://www.learndesk.us/class/5783852733693952/lesson/4d686f95a6d3c090980c294eec280eff?ref=outlook-calendar
SUMMARY:Multi Factor Authentication
DTSTART;TZID=America/Los_Angeles:20260420T190000
DTEND;TZID=America/Los_Angeles:20260420T200000
LOCATION:https://www.learndesk.us/class/5783852733693952/lesson/4d686f95a6d3c090980c294eec280eff?ref=outlook-calendar
DESCRIPTION: https://www.learndesk.us/class/5783852733693952/lesson/4d686f95a6d3c090980c294eec280eff?ref=outlook-calendar
STATUS:CONFIRMED
SEQUENCE:3
BEGIN:VALARM
TRIGGER:-PT10M
DESCRIPTION:Class Reminder
ACTION:DISPLAY
END:VALARM
END:VEVENT
END:VCALENDAR