BEGIN:VCALENDAR
VERSION:2.0
CALSCALE:GREGORIAN
BEGIN:VEVENT
URL:https://www.learndesk.us/class/5749194042114048/lesson/d4260e095c0bde389e74800a276792c6?ref=outlook-calendar
SUMMARY:Context - Discussion
DTSTART;TZID=America/Los_Angeles:20260425T190000
DTEND;TZID=America/Los_Angeles:20260425T200000
LOCATION:https://www.learndesk.us/class/5749194042114048/lesson/d4260e095c0bde389e74800a276792c6?ref=outlook-calendar
DESCRIPTION: https://www.learndesk.us/class/5749194042114048/lesson/d4260e095c0bde389e74800a276792c6?ref=outlook-calendar
STATUS:CONFIRMED
SEQUENCE:3
BEGIN:VALARM
TRIGGER:-PT10M
DESCRIPTION:Class Reminder
ACTION:DISPLAY
END:VALARM
END:VEVENT
END:VCALENDAR