BEGIN:VCALENDAR
VERSION:2.0
CALSCALE:GREGORIAN
BEGIN:VEVENT
URL:https://www.learndesk.us/class/5749194042114048/lesson/a7af42bb293c5c2ac9e15b973809c5ed?ref=outlook-calendar
SUMMARY:When Scope and Context "feel" like the same thing (but they are not)
DTSTART;TZID=America/Los_Angeles:20260423T190000
DTEND;TZID=America/Los_Angeles:20260423T200000
LOCATION:https://www.learndesk.us/class/5749194042114048/lesson/a7af42bb293c5c2ac9e15b973809c5ed?ref=outlook-calendar
DESCRIPTION: https://www.learndesk.us/class/5749194042114048/lesson/a7af42bb293c5c2ac9e15b973809c5ed?ref=outlook-calendar
STATUS:CONFIRMED
SEQUENCE:3
BEGIN:VALARM
TRIGGER:-PT10M
DESCRIPTION:Class Reminder
ACTION:DISPLAY
END:VALARM
END:VEVENT
END:VCALENDAR