BEGIN:VCALENDAR
VERSION:2.0
CALSCALE:GREGORIAN
BEGIN:VEVENT
URL:https://www.learndesk.us/class/5749194042114048/lesson/751b395f0debb65b8d96d3009129ac01?ref=outlook-calendar
SUMMARY:JavaScript Context - Advanced Topics
DTSTART;TZID=America/Los_Angeles:20260423T190000
DTEND;TZID=America/Los_Angeles:20260423T200000
LOCATION:https://www.learndesk.us/class/5749194042114048/lesson/751b395f0debb65b8d96d3009129ac01?ref=outlook-calendar
DESCRIPTION: https://www.learndesk.us/class/5749194042114048/lesson/751b395f0debb65b8d96d3009129ac01?ref=outlook-calendar
STATUS:CONFIRMED
SEQUENCE:3
BEGIN:VALARM
TRIGGER:-PT10M
DESCRIPTION:Class Reminder
ACTION:DISPLAY
END:VALARM
END:VEVENT
END:VCALENDAR