BEGIN:VCALENDAR
VERSION:2.0
CALSCALE:GREGORIAN
BEGIN:VEVENT
URL:https://www.learndesk.us/class/5749194042114048/lesson/3c45ef00e7b8c2d591f83eb1970b9f68?ref=outlook-calendar
SUMMARY:Troubleshooting a Context Problem
DTSTART;TZID=America/Los_Angeles:20260423T190000
DTEND;TZID=America/Los_Angeles:20260423T200000
LOCATION:https://www.learndesk.us/class/5749194042114048/lesson/3c45ef00e7b8c2d591f83eb1970b9f68?ref=outlook-calendar
DESCRIPTION: https://www.learndesk.us/class/5749194042114048/lesson/3c45ef00e7b8c2d591f83eb1970b9f68?ref=outlook-calendar
STATUS:CONFIRMED
SEQUENCE:3
BEGIN:VALARM
TRIGGER:-PT10M
DESCRIPTION:Class Reminder
ACTION:DISPLAY
END:VALARM
END:VEVENT
END:VCALENDAR