BEGIN:VCALENDAR
VERSION:2.0
CALSCALE:GREGORIAN
BEGIN:VEVENT
URL:https://www.learndesk.us/class/5749194042114048/lesson/285b73a6ae458a7eb4bd46f6ad059cf6?ref=outlook-calendar
SUMMARY:Understanding Context in JavaScript
DTSTART;TZID=America/Los_Angeles:20260423T190000
DTEND;TZID=America/Los_Angeles:20260423T200000
LOCATION:https://www.learndesk.us/class/5749194042114048/lesson/285b73a6ae458a7eb4bd46f6ad059cf6?ref=outlook-calendar
DESCRIPTION: https://www.learndesk.us/class/5749194042114048/lesson/285b73a6ae458a7eb4bd46f6ad059cf6?ref=outlook-calendar
STATUS:CONFIRMED
SEQUENCE:3
BEGIN:VALARM
TRIGGER:-PT10M
DESCRIPTION:Class Reminder
ACTION:DISPLAY
END:VALARM
END:VEVENT
END:VCALENDAR