BEGIN:VCALENDAR
VERSION:2.0
CALSCALE:GREGORIAN
BEGIN:VEVENT
URL:https://www.learndesk.us/class/5747598155579392/lesson/b66181643984686c515820b4e4cc742b?ref=outlook-calendar
SUMMARY:Web Application Attack
DTSTART;TZID=America/Los_Angeles:20260420T190000
DTEND;TZID=America/Los_Angeles:20260420T200000
LOCATION:https://www.learndesk.us/class/5747598155579392/lesson/b66181643984686c515820b4e4cc742b?ref=outlook-calendar
DESCRIPTION: https://www.learndesk.us/class/5747598155579392/lesson/b66181643984686c515820b4e4cc742b?ref=outlook-calendar
STATUS:CONFIRMED
SEQUENCE:3
BEGIN:VALARM
TRIGGER:-PT10M
DESCRIPTION:Class Reminder
ACTION:DISPLAY
END:VALARM
END:VEVENT
END:VCALENDAR