BEGIN:VCALENDAR
VERSION:2.0
CALSCALE:GREGORIAN
BEGIN:VEVENT
URL:https://www.learndesk.us/class/5731123067879424/lesson/f95a8d4b6365773328514affa17fe446?ref=outlook-calendar
SUMMARY:Installing SQL Developer and connecting to Oracle Database
DTSTART;TZID=America/Los_Angeles:20260420T190000
DTEND;TZID=America/Los_Angeles:20260420T200000
LOCATION:https://www.learndesk.us/class/5731123067879424/lesson/f95a8d4b6365773328514affa17fe446?ref=outlook-calendar
DESCRIPTION: https://www.learndesk.us/class/5731123067879424/lesson/f95a8d4b6365773328514affa17fe446?ref=outlook-calendar
STATUS:CONFIRMED
SEQUENCE:3
BEGIN:VALARM
TRIGGER:-PT10M
DESCRIPTION:Class Reminder
ACTION:DISPLAY
END:VALARM
END:VEVENT
END:VCALENDAR