BEGIN:VCALENDAR
VERSION:2.0
CALSCALE:GREGORIAN
BEGIN:VEVENT
URL:https://www.learndesk.us/class/5731123067879424/lesson/9d0f68e923b1165ac6d1832a4af2b985?ref=outlook-calendar
SUMMARY:Introduction to PL/SQL
DTSTART;TZID=America/Los_Angeles:20260420T190000
DTEND;TZID=America/Los_Angeles:20260420T200000
LOCATION:https://www.learndesk.us/class/5731123067879424/lesson/9d0f68e923b1165ac6d1832a4af2b985?ref=outlook-calendar
DESCRIPTION: https://www.learndesk.us/class/5731123067879424/lesson/9d0f68e923b1165ac6d1832a4af2b985?ref=outlook-calendar
STATUS:CONFIRMED
SEQUENCE:3
BEGIN:VALARM
TRIGGER:-PT10M
DESCRIPTION:Class Reminder
ACTION:DISPLAY
END:VALARM
END:VEVENT
END:VCALENDAR