BEGIN:VCALENDAR
VERSION:2.0
CALSCALE:GREGORIAN
BEGIN:VEVENT
URL:https://www.learndesk.us/class/5731123067879424/lesson/8a03807f0b4b4a4d26bd17bae7352a42?ref=outlook-calendar
SUMMARY:Installing Oracle Database 18c Express Edition
DTSTART;TZID=America/Los_Angeles:20260420T190000
DTEND;TZID=America/Los_Angeles:20260420T200000
LOCATION:https://www.learndesk.us/class/5731123067879424/lesson/8a03807f0b4b4a4d26bd17bae7352a42?ref=outlook-calendar
DESCRIPTION: https://www.learndesk.us/class/5731123067879424/lesson/8a03807f0b4b4a4d26bd17bae7352a42?ref=outlook-calendar
STATUS:CONFIRMED
SEQUENCE:3
BEGIN:VALARM
TRIGGER:-PT10M
DESCRIPTION:Class Reminder
ACTION:DISPLAY
END:VALARM
END:VEVENT
END:VCALENDAR