BEGIN:VCALENDAR
VERSION:2.0
CALSCALE:GREGORIAN
BEGIN:VEVENT
URL:https://www.learndesk.us/class/5731123067879424/lesson/8600f5692b89bed3ef5060cc4a54108b?ref=outlook-calendar
SUMMARY:Oracle Database Objects
DTSTART;TZID=America/Los_Angeles:20260420T190000
DTEND;TZID=America/Los_Angeles:20260420T200000
LOCATION:https://www.learndesk.us/class/5731123067879424/lesson/8600f5692b89bed3ef5060cc4a54108b?ref=outlook-calendar
DESCRIPTION: This section covers Tables, Views, Indexes, Sequences and Security.

https://www.learndesk.us/class/5731123067879424/lesson/8600f5692b89bed3ef5060cc4a54108b?ref=outlook-calendar
STATUS:CONFIRMED
SEQUENCE:3
BEGIN:VALARM
TRIGGER:-PT10M
DESCRIPTION:Class Reminder
ACTION:DISPLAY
END:VALARM
END:VEVENT
END:VCALENDAR