BEGIN:VCALENDAR
VERSION:2.0
CALSCALE:GREGORIAN
BEGIN:VEVENT
URL:https://www.learndesk.us/class/5731123067879424/lesson/55202b702481fa982fdfabe5bc08791d?ref=outlook-calendar
SUMMARY:Getting Started
DTSTART;TZID=America/Los_Angeles:20260420T190000
DTEND;TZID=America/Los_Angeles:20260420T200000
LOCATION:https://www.learndesk.us/class/5731123067879424/lesson/55202b702481fa982fdfabe5bc08791d?ref=outlook-calendar
DESCRIPTION: In this session, you will learn how to get started with Oracle Database 18c and Oracle SQL Developer

https://www.learndesk.us/class/5731123067879424/lesson/55202b702481fa982fdfabe5bc08791d?ref=outlook-calendar
STATUS:CONFIRMED
SEQUENCE:3
BEGIN:VALARM
TRIGGER:-PT10M
DESCRIPTION:Class Reminder
ACTION:DISPLAY
END:VALARM
END:VEVENT
END:VCALENDAR