BEGIN:VCALENDAR
VERSION:2.0
CALSCALE:GREGORIAN
BEGIN:VEVENT
URL:https://www.learndesk.us/class/5731123067879424/lesson/447b3195319533a5105d564ce1d93b1d?ref=outlook-calendar
SUMMARY:SQL
DTSTART;TZID=America/Los_Angeles:20260420T190000
DTEND;TZID=America/Los_Angeles:20260420T200000
LOCATION:https://www.learndesk.us/class/5731123067879424/lesson/447b3195319533a5105d564ce1d93b1d?ref=outlook-calendar
DESCRIPTION: This section shows how to use SQL to write simple to complex queries and manipulate data in the Database.

https://www.learndesk.us/class/5731123067879424/lesson/447b3195319533a5105d564ce1d93b1d?ref=outlook-calendar
STATUS:CONFIRMED
SEQUENCE:3
BEGIN:VALARM
TRIGGER:-PT10M
DESCRIPTION:Class Reminder
ACTION:DISPLAY
END:VALARM
END:VEVENT
END:VCALENDAR