BEGIN:VCALENDAR
VERSION:2.0
CALSCALE:GREGORIAN
BEGIN:VEVENT
URL:https://www.learndesk.us/class/5731123067879424/lesson/26e3750958c998b9034611306a9545bf?ref=outlook-calendar
SUMMARY:PL/SQL
DTSTART;TZID=America/Los_Angeles:20260420T190000
DTEND;TZID=America/Los_Angeles:20260420T200000
LOCATION:https://www.learndesk.us/class/5731123067879424/lesson/26e3750958c998b9034611306a9545bf?ref=outlook-calendar
DESCRIPTION: This section teaches how to use PL/SQL to develop program units that implement business logic and rules.

https://www.learndesk.us/class/5731123067879424/lesson/26e3750958c998b9034611306a9545bf?ref=outlook-calendar
STATUS:CONFIRMED
SEQUENCE:3
BEGIN:VALARM
TRIGGER:-PT10M
DESCRIPTION:Class Reminder
ACTION:DISPLAY
END:VALARM
END:VEVENT
END:VCALENDAR