BEGIN:VCALENDAR
VERSION:2.0
CALSCALE:GREGORIAN
BEGIN:VEVENT
URL:https://www.learndesk.us/class/5731123067879424/lesson/21342c9974d88ad5d71524c47c6db7b7?ref=outlook-calendar
SUMMARY:Database Triggers - Part 1
DTSTART;TZID=America/Los_Angeles:20260422T190000
DTEND;TZID=America/Los_Angeles:20260422T200000
LOCATION:https://www.learndesk.us/class/5731123067879424/lesson/21342c9974d88ad5d71524c47c6db7b7?ref=outlook-calendar
DESCRIPTION: https://www.learndesk.us/class/5731123067879424/lesson/21342c9974d88ad5d71524c47c6db7b7?ref=outlook-calendar
STATUS:CONFIRMED
SEQUENCE:3
BEGIN:VALARM
TRIGGER:-PT10M
DESCRIPTION:Class Reminder
ACTION:DISPLAY
END:VALARM
END:VEVENT
END:VCALENDAR