BEGIN:VCALENDAR
VERSION:2.0
CALSCALE:GREGORIAN
BEGIN:VEVENT
URL:https://www.learndesk.us/class/5731123067879424/oracle-database-for-beginners?ref=outlook-calendar
SUMMARY:Oracle Database for Beginners
DTSTART;TZID=America/Los_Angeles:20260420T190000
DTEND;TZID=America/Los_Angeles:20260420T200000
LOCATION:https://www.learndesk.us/class/5731123067879424/oracle-database-for-beginners?ref=outlook-calendar
DESCRIPTION: 
This course will teach how to use Oracle database to store, manipulate and query data. It takes you from the fundamentals of databases to creating program units to implement business logic and rules using PL/SQL.
What will you learn in this course?

What are DBMS and RDBMS
How to get started with Oracle Database 18c XE and Oracle SQL developer
How to use SQL to retrieve, manipulate and create data
How to group data using GROUP BY and HAVING clauses
How to use different types of joins to get data from multiple tables
How to use subquery and correlated subquery to write complex queries
What is a view, advantages of view and how to manipulate the base table through a view
What is the index and how index improves performance
Implementing object-level security using object privileges
How to create and use regular expressions
Writing PL/SQL blocks to process data
Various control structures in PL/SQL
Handling exceptions
Explicit and implicit cursors
Creating procedures and functions to...

https://www.learndesk.us/class/5731123067879424/oracle-database-for-beginners?ref=outlook-calendar
STATUS:CONFIRMED
SEQUENCE:3
BEGIN:VALARM
TRIGGER:-PT10M
DESCRIPTION:Class Reminder
ACTION:DISPLAY
END:VALARM
END:VEVENT
END:VCALENDAR