BEGIN:VCALENDAR
VERSION:2.0
CALSCALE:GREGORIAN
BEGIN:VEVENT
URL:https://www.learndesk.us/class/5706445343424512/lesson/e4872cc4fb2c8da0cc6557627e65c0e2?ref=outlook-calendar
SUMMARY:Professional Project: Speed Reader for IOS and Android
DTSTART;TZID=America/Los_Angeles:20260422T190000
DTEND;TZID=America/Los_Angeles:20260422T200000
LOCATION:https://www.learndesk.us/class/5706445343424512/lesson/e4872cc4fb2c8da0cc6557627e65c0e2?ref=outlook-calendar
DESCRIPTION: https://www.learndesk.us/class/5706445343424512/lesson/e4872cc4fb2c8da0cc6557627e65c0e2?ref=outlook-calendar
STATUS:CONFIRMED
SEQUENCE:3
BEGIN:VALARM
TRIGGER:-PT10M
DESCRIPTION:Class Reminder
ACTION:DISPLAY
END:VALARM
END:VEVENT
END:VCALENDAR