BEGIN:VCALENDAR
VERSION:2.0
CALSCALE:GREGORIAN
BEGIN:VEVENT
URL:https://www.learndesk.us/class/5706445343424512/lesson/c2d77d1d57e62e7e66c5dd3f34e5217d?ref=outlook-calendar
SUMMARY:Professional Project: Maths Game (HTML, CSS and JavaScript)
DTSTART;TZID=America/Los_Angeles:20260423T190000
DTEND;TZID=America/Los_Angeles:20260423T200000
LOCATION:https://www.learndesk.us/class/5706445343424512/lesson/c2d77d1d57e62e7e66c5dd3f34e5217d?ref=outlook-calendar
DESCRIPTION: https://www.learndesk.us/class/5706445343424512/lesson/c2d77d1d57e62e7e66c5dd3f34e5217d?ref=outlook-calendar
STATUS:CONFIRMED
SEQUENCE:3
BEGIN:VALARM
TRIGGER:-PT10M
DESCRIPTION:Class Reminder
ACTION:DISPLAY
END:VALARM
END:VEVENT
END:VCALENDAR