BEGIN:VCALENDAR
VERSION:2.0
CALSCALE:GREGORIAN
BEGIN:VEVENT
URL:https://www.learndesk.us/class/5706445343424512/lesson/ad31346eacfe7f22ba0f198e0ff0d866?ref=outlook-calendar
SUMMARY:Error Handling (2) – Activity: Log PHP Errors in a File/Trigger Error Emails
DTSTART;TZID=America/Los_Angeles:20260424T190000
DTEND;TZID=America/Los_Angeles:20260424T200000
LOCATION:https://www.learndesk.us/class/5706445343424512/lesson/ad31346eacfe7f22ba0f198e0ff0d866?ref=outlook-calendar
DESCRIPTION: https://www.learndesk.us/class/5706445343424512/lesson/ad31346eacfe7f22ba0f198e0ff0d866?ref=outlook-calendar
STATUS:CONFIRMED
SEQUENCE:3
BEGIN:VALARM
TRIGGER:-PT10M
DESCRIPTION:Class Reminder
ACTION:DISPLAY
END:VALARM
END:VEVENT
END:VCALENDAR