BEGIN:VCALENDAR
VERSION:2.0
CALSCALE:GREGORIAN
BEGIN:VEVENT
URL:https://www.learndesk.us/class/5706445343424512/lesson/a50269d298db8e3fa6bf056bf8e29752?ref=outlook-calendar
SUMMARY:Project Introduction: Online File Explorer App (Pure Node.js, Bootstrap 4)
DTSTART;TZID=America/Los_Angeles:20260426T190000
DTEND;TZID=America/Los_Angeles:20260426T200000
LOCATION:https://www.learndesk.us/class/5706445343424512/lesson/a50269d298db8e3fa6bf056bf8e29752?ref=outlook-calendar
DESCRIPTION: https://www.learndesk.us/class/5706445343424512/lesson/a50269d298db8e3fa6bf056bf8e29752?ref=outlook-calendar
STATUS:CONFIRMED
SEQUENCE:3
BEGIN:VALARM
TRIGGER:-PT10M
DESCRIPTION:Class Reminder
ACTION:DISPLAY
END:VALARM
END:VEVENT
END:VCALENDAR