BEGIN:VCALENDAR
VERSION:2.0
CALSCALE:GREGORIAN
BEGIN:VEVENT
URL:https://www.learndesk.us/class/5706445343424512/lesson/8fc8865c1791d45c327acac4211ed81b?ref=outlook-calendar
SUMMARY:Flexbox: Align Flex Lines
DTSTART;TZID=America/Los_Angeles:20260422T190000
DTEND;TZID=America/Los_Angeles:20260422T200000
LOCATION:https://www.learndesk.us/class/5706445343424512/lesson/8fc8865c1791d45c327acac4211ed81b?ref=outlook-calendar
DESCRIPTION: https://www.learndesk.us/class/5706445343424512/lesson/8fc8865c1791d45c327acac4211ed81b?ref=outlook-calendar
STATUS:CONFIRMED
SEQUENCE:3
BEGIN:VALARM
TRIGGER:-PT10M
DESCRIPTION:Class Reminder
ACTION:DISPLAY
END:VALARM
END:VEVENT
END:VCALENDAR