BEGIN:VCALENDAR
VERSION:2.0
CALSCALE:GREGORIAN
BEGIN:VEVENT
URL:https://www.learndesk.us/class/5706445343424512/lesson/7ebfd214d9d63b6b24d7ae2a01401464?ref=outlook-calendar
SUMMARY:Flexbox Application: Maths Website (3)
DTSTART;TZID=America/Los_Angeles:20260423T190000
DTEND;TZID=America/Los_Angeles:20260423T200000
LOCATION:https://www.learndesk.us/class/5706445343424512/lesson/7ebfd214d9d63b6b24d7ae2a01401464?ref=outlook-calendar
DESCRIPTION: https://www.learndesk.us/class/5706445343424512/lesson/7ebfd214d9d63b6b24d7ae2a01401464?ref=outlook-calendar
STATUS:CONFIRMED
SEQUENCE:3
BEGIN:VALARM
TRIGGER:-PT10M
DESCRIPTION:Class Reminder
ACTION:DISPLAY
END:VALARM
END:VEVENT
END:VCALENDAR