BEGIN:VCALENDAR
VERSION:2.0
CALSCALE:GREGORIAN
BEGIN:VEVENT
URL:https://www.learndesk.us/class/5706445343424512/lesson/340d54344e2f60b060cef02de67e785b?ref=outlook-calendar
SUMMARY:Upload Files Using PHP (2) – Activity: Upload PDF and Text Files Less than 3Mo.
DTSTART;TZID=America/Los_Angeles:20260422T190000
DTEND;TZID=America/Los_Angeles:20260422T200000
LOCATION:https://www.learndesk.us/class/5706445343424512/lesson/340d54344e2f60b060cef02de67e785b?ref=outlook-calendar
DESCRIPTION: https://www.learndesk.us/class/5706445343424512/lesson/340d54344e2f60b060cef02de67e785b?ref=outlook-calendar
STATUS:CONFIRMED
SEQUENCE:3
BEGIN:VALARM
TRIGGER:-PT10M
DESCRIPTION:Class Reminder
ACTION:DISPLAY
END:VALARM
END:VEVENT
END:VCALENDAR