BEGIN:VCALENDAR
VERSION:2.0
CALSCALE:GREGORIAN
BEGIN:VEVENT
URL:https://www.learndesk.us/class/5706445343424512/the-complete-web-development-course-build-15-projects?ref=outlook-calendar
SUMMARY:The Complete Web Development Course: Build 15 Projects
DTSTART;TZID=America/Los_Angeles:20260422T190000
DTEND;TZID=America/Los_Angeles:20260422T200000
LOCATION:https://www.learndesk.us/class/5706445343424512/the-complete-web-development-course-build-15-projects?ref=outlook-calendar
DESCRIPTION: 
Did you know you can go from zero skills to a fully qualified cash-earning web developer in only a few weeks?
Well, let me tell you if you are looking for a truly comprehensive web development course that will take you from learning the basics to mastering the most advanced web development techniques, then be certain that you have come to the right place.
Taking this course will help you to achieve your dream of becoming a professional web developer, and you will be ready to build powerful and responsive websites to a highly professional degree using today’s most advanced and up to date web technologies within a few weeks from now.
In order to guarantee the success of your learning experience, this course is divided into perfectly structured chapters consisting of around ninety hours of crystal clear lectures.
What will you learn in this course?
Each chapter covers one of the major web technologies and will take you from the basics to advanced skills. This is how:
You will first...

https://www.learndesk.us/class/5706445343424512/the-complete-web-development-course-build-15-projects?ref=outlook-calendar
STATUS:CONFIRMED
SEQUENCE:3
BEGIN:VALARM
TRIGGER:-PT10M
DESCRIPTION:Class Reminder
ACTION:DISPLAY
END:VALARM
END:VEVENT
END:VCALENDAR